BEGIN:VCALENDAR
VERSION:2.0
PRODID:-//KansasAuctions.net v1//EN
BEGIN:VEVENT
DTSTAMP:20260420T204728Z
STATUS:CONFIRMED
UID:f2cd0aa658fdcd2a2997eadd4a190421@KansasAuctions.net
DTSTART:20260505T000000Z
DTEND:20260505T010000Z
SUMMARY:Online Auction - Wiens Auction/Realty LLC
DESCRIPTION:Marble Collection
  https://www.kansasauctions.net/calendar/wiens/70380/
LOCATION:319 N Washington Ave Wellington, KS
TRANSP:OPAQUE
END:VEVENT
END:VCALENDAR