BEGIN:VCALENDAR
VERSION:2.0
PRODID:-//KansasAuctions.net v1//EN
BEGIN:VEVENT
DTSTAMP:20260420T204645Z
STATUS:CONFIRMED
UID:ac6a9dfa72fde60dfd448c814a5076f2@KansasAuctions.net
DTSTART:20260423T220000Z
DTEND:20260423T230000Z
SUMMARY:Online Auction - Wiens Auction/Realty LLC
DESCRIPTION:Large Moving/Downsizing Auction Near Wellington, KS
  https://www.kansasauctions.net/calendar/wiens/70378/
LOCATION:Wellington, KS
TRANSP:OPAQUE
END:VEVENT
END:VCALENDAR