BEGIN:VCALENDAR
VERSION:2.0
PRODID:-//KansasAuctions.net v1//EN
BEGIN:VEVENT
DTSTAMP:20260420T222319Z
STATUS:CONFIRMED
UID:f9eb5a68acd93638baff6304acf3594e@KansasAuctions.net
DTSTART:20260421T220000Z
DTEND:20260421T230000Z
SUMMARY:Coin Auction - Wiens Auction/Realty LLC
DESCRIPTION:4/21 Coin Collection
  https://www.kansasauctions.net/calendar/wiens/70377/
LOCATION:319 N Washington Ave Wellington, KS
TRANSP:OPAQUE
END:VEVENT
END:VCALENDAR