BEGIN:VCALENDAR
VERSION:2.0
PRODID:-//KansasAuctions.net v1//EN
BEGIN:VEVENT
DTSTAMP:20260420T222201Z
STATUS:CONFIRMED
UID:46ddd98723c1fa4b996d497be5065d22@KansasAuctions.net
DTSTART:20260512T180000Z
DTEND:20260512T190000Z
SUMMARY:Online Auction - Theurer Auction/Realty
DESCRIPTION:Argonia Baptist Church Appliances, Furniture, Piano, Organs,
  Dishes, Pans
  https://www.kansasauctions.net/calendar/theurer/70376/
LOCATION:201 W Garfield Argonia, KS
TRANSP:OPAQUE
END:VEVENT
END:VCALENDAR