BEGIN:VCALENDAR
VERSION:2.0
PRODID:-//KansasAuctions.net v1//EN
BEGIN:VEVENT
DTSTAMP:20260420T204452Z
STATUS:CONFIRMED
UID:7a512226702150497a19dace5a30fabc@KansasAuctions.net
DTSTART:20260512T160000Z
DTEND:20260512T170000Z
SUMMARY:Real Estate Auction - Theurer Auction/Realty
DESCRIPTION:Former Argonia Baptist Church, 201 W Garfield, Argonia | 4,200
  sqft Main Level & Basement | Large Corner Lot - Multi Use Building
  https://www.kansasauctions.net/calendar/theurer/70375/
LOCATION:201 W Garfield Argonia, KS
TRANSP:OPAQUE
END:VEVENT
END:VCALENDAR