BEGIN:VCALENDAR
VERSION:2.0
PRODID:-//KansasAuctions.net v1//EN
BEGIN:VEVENT
DTSTAMP:20260420T222156Z
STATUS:CONFIRMED
UID:2f8f614822cc699e07d3f99d692efb40@KansasAuctions.net
DTSTART:20260427T160000Z
DTEND:20260427T170000Z
SUMMARY:Online Auction - Theurer Auction/Realty
DESCRIPTION:Skid Loaders, Excavators, Attachments, Equipment, Storage
  Container (CIMU 1023666 & 1020034)
  https://www.kansasauctions.net/calendar/theurer/70374/
LOCATION:Oxford, KS
TRANSP:OPAQUE
END:VEVENT
END:VCALENDAR