BEGIN:VCALENDAR
VERSION:2.0
PRODID:-//KansasAuctions.net v1//EN
BEGIN:VEVENT
DTSTAMP:20260420T222417Z
STATUS:CONFIRMED
UID:77235190981f9b97ea640ce3d22de7f7@KansasAuctions.net
DTSTART:20260430T190000Z
DTEND:20260430T200000Z
SUMMARY:Online Auction - Sundgren Realty
DESCRIPTION:Tractor, Mower, Boat, Shop Tools & More
  https://www.kansasauctions.net/calendar/sundgren/70373/
LOCATION:Fall River, KS
TRANSP:OPAQUE
END:VEVENT
END:VCALENDAR