BEGIN:VCALENDAR
VERSION:2.0
PRODID:-//KansasAuctions.net v1//EN
BEGIN:VEVENT
DTSTAMP:20260420T204604Z
STATUS:CONFIRMED
UID:d6e9437cca6dbedecac8a28749d78afd@KansasAuctions.net
DTSTART:20260428T190000Z
DTEND:20260428T200000Z
SUMMARY:Antiques & Collectibles Auction - Sundgren Realty
DESCRIPTION:Estate of Craig Kobel: Guns, Antiques & Collectibles Auction #1
  https://www.kansasauctions.net/calendar/sundgren/70372/
LOCATION:El Dorado, KS
TRANSP:OPAQUE
END:VEVENT
END:VCALENDAR