BEGIN:VCALENDAR
VERSION:2.0
PRODID:-//KansasAuctions.net v1//EN
BEGIN:VEVENT
DTSTAMP:20260420T204640Z
STATUS:CONFIRMED
UID:f4f8f4f0090daf3b9e776db2e39278d7@KansasAuctions.net
DTSTART:20260509T143000Z
DTEND:20260509T153000Z
SUMMARY:Carson Estate Auction - Morris Yoder Auctions
DESCRIPTION:Tractor, Vehicles, Shop Tools, Household & Collectibles
  https://www.kansasauctions.net/calendar/yoder/70371/
LOCATION:4201 N Lorraine St Hutchinson, KS
TRANSP:OPAQUE
END:VEVENT
END:VCALENDAR