BEGIN:VCALENDAR
VERSION:2.0
PRODID:-//KansasAuctions.net v1//EN
BEGIN:VEVENT
DTSTAMP:20260420T222324Z
STATUS:CONFIRMED
UID:3ea06a1e6a7074544356f458b27cf88b@KansasAuctions.net
DTSTART:20260501T223000Z
DTEND:20260501T233000Z
SUMMARY:Online Auction - Little Bull Auction & Sales Co.
DESCRIPTION:Granny J’s Throwback Sale
  https://www.kansasauctions.net/calendar/littlebull/70370/
LOCATION:Chanute, KS
TRANSP:OPAQUE
END:VEVENT
END:VCALENDAR