BEGIN:VCALENDAR
VERSION:2.0
PRODID:-//KansasAuctions.net v1//EN
BEGIN:VEVENT
DTSTAMP:20260420T204625Z
STATUS:CONFIRMED
UID:f2bae0fcf0c5f732fa83460e19de525c@KansasAuctions.net
DTSTART:20260429T223000Z
DTEND:20260429T233000Z
SUMMARY:Online Auction - Little Bull Auction & Sales Co.
DESCRIPTION:Antiques & Vintage Glassware Extravaganza
  https://www.kansasauctions.net/calendar/littlebull/70369/
LOCATION:146 N 7th St Salina, KS
TRANSP:OPAQUE
END:VEVENT
END:VCALENDAR