BEGIN:VCALENDAR
VERSION:2.0
PRODID:-//KansasAuctions.net v1//EN
BEGIN:VEVENT
DTSTAMP:20260420T222151Z
STATUS:CONFIRMED
UID:a126b9e86567b607c6fd896dd26c04ac@KansasAuctions.net
DTSTART:20260428T233000Z
DTEND:20260429T003000Z
SUMMARY:Online Auction - Little Bull Auction & Sales Co.
DESCRIPTION:Vintage Treasures & Collectibles Auction
  https://www.kansasauctions.net/calendar/littlebull/70368/
LOCATION:Augusta, KS
TRANSP:OPAQUE
END:VEVENT
END:VCALENDAR