BEGIN:VCALENDAR
VERSION:2.0
PRODID:-//KansasAuctions.net v1//EN
BEGIN:VEVENT
DTSTAMP:20260420T220005Z
STATUS:CONFIRMED
UID:4d1d705bcbb155d314e7782ac0fe2886@KansasAuctions.net
DTSTART:20260428T183000Z
DTEND:20260428T193000Z
SUMMARY:Online Auction - Little Bull Auction & Sales Co.
DESCRIPTION:Ingle's Liquidation Auction
  https://www.kansasauctions.net/calendar/littlebull/70367/
LOCATION:Wichita, KS
TRANSP:OPAQUE
END:VEVENT
END:VCALENDAR