BEGIN:VCALENDAR
VERSION:2.0
PRODID:-//KansasAuctions.net v1//EN
BEGIN:VEVENT
DTSTAMP:20260420T222042Z
STATUS:CONFIRMED
UID:fd289f2309ee0f4eb4862b1c48dd7f26@KansasAuctions.net
DTSTART:20260427T230500Z
DTEND:20260428T000500Z
SUMMARY:Online Auction - Little Bull Auction & Sales Co.
DESCRIPTION:The Amarado Estate on Caddy Lane
  https://www.kansasauctions.net/calendar/littlebull/70366/
LOCATION:Wichita, KS
TRANSP:OPAQUE
END:VEVENT
END:VCALENDAR