BEGIN:VCALENDAR
VERSION:2.0
PRODID:-//KansasAuctions.net v1//EN
BEGIN:VEVENT
DTSTAMP:20260420T222546Z
STATUS:CONFIRMED
UID:9f658f5d03b03152792728335f161b5f@KansasAuctions.net
DTSTART:20260426T220000Z
DTEND:20260426T230000Z
SUMMARY:Online Auction - Little Bull Auction & Sales Co.
DESCRIPTION:The Craftsman's Tools!
  https://www.kansasauctions.net/calendar/littlebull/70365/
LOCATION:Wichita, KS
TRANSP:OPAQUE
END:VEVENT
END:VCALENDAR