BEGIN:VCALENDAR
VERSION:2.0
PRODID:-//KansasAuctions.net v1//EN
BEGIN:VEVENT
DTSTAMP:20260420T204748Z
STATUS:CONFIRMED
UID:a54e797e6b2726521599d6db8e36e067@KansasAuctions.net
DTSTART:20270419T180500Z
DTEND:20270419T190500Z
SUMMARY:Real Estate & Personal Property Auction - Legacy Auction Group
DESCRIPTION:Michael "Dean" Dachenhausen Estate | Fantastic, Historic West
  Plaza Home plus Vehicle, Antiques, Collectibles, Furniture, Art, Jewelry,
  Decorative Arts, Appliances, Home Decor, Household Goods, & Much More!
  https://www.kansasauctions.net/calendar/chapin/70364/
LOCATION:4130 Mercier St Kansas City, MO
TRANSP:OPAQUE
END:VEVENT
END:VCALENDAR