BEGIN:VCALENDAR
VERSION:2.0
PRODID:-//KansasAuctions.net v1//EN
BEGIN:VEVENT
DTSTAMP:20260420T222541Z
STATUS:CONFIRMED
UID:644802bfeb9369acd2d1c13258ae6e55@KansasAuctions.net
DTSTART:20260426T160000Z
DTEND:20260426T170000Z
SUMMARY:Huge Living Estate Farm Auction - Legacy Auction Group
DESCRIPTION:Mike & Arlene Casey Living Estate | Vehicles, UTV, Tractors,
  Farm Equipment, Guns, Collectibles, Coins, Jewelry, Furniture, Appliances,
  Outdoor Items, Tools, Home Decor, Household Goods, & Much More!
  https://www.kansasauctions.net/calendar/chapin/70363/
LOCATION:34701 E 155th St Pleasant Hill, MO
TRANSP:OPAQUE
END:VEVENT
END:VCALENDAR