BEGIN:VCALENDAR
VERSION:2.0
PRODID:-//KansasAuctions.net v1//EN
BEGIN:VEVENT
DTSTAMP:20260420T204529Z
STATUS:CONFIRMED
UID:e47d19c25505a66a61c9bf7390007e2b@KansasAuctions.net
DTSTART:20260421T230000Z
DTEND:20260422T000000Z
SUMMARY:Antique Dealer Estate Auction - Legacy Auction Group
DESCRIPTION:Emergency Indoor Antique Dealer Estate Auction Part 1. Vonna
  Beeks Estate. Lifetime Collections of Antiques & Collectibles, Furniture,
  Dolls, Jewelry, Vintage, Home Decor, Household Goods, & Much More!
  https://www.kansasauctions.net/calendar/chapin/70362/
LOCATION:6805 Sobbie Rd Pleasant Valley, MO
TRANSP:OPAQUE
END:VEVENT
END:VCALENDAR