BEGIN:VCALENDAR
VERSION:2.0
PRODID:-//KansasAuctions.net v1//EN
BEGIN:VEVENT
DTSTAMP:20260420T204620Z
STATUS:CONFIRMED
UID:a5a78a496d752ba63e7c835a6bdead84@KansasAuctions.net
DTSTART:20260627T140000Z
DTEND:20260627T150000Z
SUMMARY:Household Auction - Larry Johnston Agency
DESCRIPTION:Household Auction
  https://www.kansasauctions.net/calendar/johnston/70361/
LOCATION:Garden City, KS
TRANSP:OPAQUE
END:VEVENT
END:VCALENDAR