BEGIN:VCALENDAR
VERSION:2.0
PRODID:-//KansasAuctions.net v1//EN
BEGIN:VEVENT
DTSTAMP:20260420T204457Z
STATUS:CONFIRMED
UID:30851239a76d7537fd32204bd7648771@KansasAuctions.net
DTSTART:20260613T140000Z
DTEND:20260613T150000Z
SUMMARY:Moving Auction - Larry Johnston Agency
DESCRIPTION:Moving Auction
  https://www.kansasauctions.net/calendar/johnston/70360/
LOCATION:Garden City, KS
TRANSP:OPAQUE
END:VEVENT
END:VCALENDAR