BEGIN:VCALENDAR
VERSION:2.0
PRODID:-//KansasAuctions.net v1//EN
BEGIN:VEVENT
DTSTAMP:20260420T204048Z
STATUS:CONFIRMED
UID:d202ea8207acf2cb72f980eb19466e01@KansasAuctions.net
DTSTART:20260509T150000Z
DTEND:20260509T160000Z
SUMMARY:Dispersal Auction - Larry Johnston Agency
DESCRIPTION:Parts, Tools, Car Parts
  https://www.kansasauctions.net/calendar/johnston/70359/
LOCATION:Dodge City, KS
TRANSP:OPAQUE
END:VEVENT
END:VCALENDAR