BEGIN:VCALENDAR
VERSION:2.0
PRODID:-//KansasAuctions.net v1//EN
BEGIN:VEVENT
DTSTAMP:20260420T204524Z
STATUS:CONFIRMED
UID:7d1b55199579960ae918d95974ff5c95@KansasAuctions.net
DTSTART:20260530T150000Z
DTEND:20260530T160000Z
SUMMARY:Public Auction - Kretz Auction Service
DESCRIPTION:Selling will be classic cars to restore, large collection of
  1937 U.S. license plates. coin collection, variety of tools, auto parts and
  other misc. items.
  https://www.kansasauctions.net/calendar/kretz/70358/
LOCATION:Clay Center, KS
TRANSP:OPAQUE
END:VEVENT
END:VCALENDAR