BEGIN:VCALENDAR
VERSION:2.0
PRODID:-//KansasAuctions.net v1//EN
BEGIN:VEVENT
DTSTAMP:20260420T204650Z
STATUS:CONFIRMED
UID:38cacb0c8054936283eae11338161bf8@KansasAuctions.net
DTSTART:20260423T150000Z
DTEND:20260423T160000Z
SUMMARY:Impound Auction - Kansas Impound Auctions
DESCRIPTION:Twisted Towing
  https://www.kansasauctions.net/calendar/ksimpound/70357/
LOCATION:3246 S Broadway Wichita, KS
TRANSP:OPAQUE
END:VEVENT
END:VCALENDAR