BEGIN:VCALENDAR
VERSION:2.0
PRODID:-//KansasAuctions.net v1//EN
BEGIN:VEVENT
DTSTAMP:20260420T204539Z
STATUS:CONFIRMED
UID:ae222c2d6e8ca120b0aff453da5985d8@KansasAuctions.net
DTSTART:20260510T230000Z
DTEND:20260511T000000Z
SUMMARY:Cunningham Online Land Auction - Iman Auction Company
DESCRIPTION:TRACT 1: 39.6 Acres of open grasslands with heavy wooded draws;
  TRACT 2: 34.5 Acres of open grassland
  https://www.kansasauctions.net/calendar/imanauction/70356/
LOCATION:Higbee, MO
TRANSP:OPAQUE
END:VEVENT
END:VCALENDAR