BEGIN:VCALENDAR
VERSION:2.0
PRODID:-//KansasAuctions.net v1//EN
BEGIN:VEVENT
DTSTAMP:20260420T235519Z
STATUS:CONFIRMED
UID:4a5f29b1b4b94b7703ca120ef868e35a@KansasAuctions.net
DTSTART:20260509T150000Z
DTEND:20260509T160000Z
SUMMARY:Padgett Live Auction - Griffin Real Estate & Auction Service
DESCRIPTION:Antiques, Glassware, Pottery & Crocks, Toys, Furniture, Outdoor
  https://www.kansasauctions.net/calendar/rickgriffin/70355/
LOCATION:2313 140th Florence, KS
TRANSP:OPAQUE
END:VEVENT
END:VCALENDAR