BEGIN:VCALENDAR
VERSION:2.0
PRODID:-//KansasAuctions.net v1//EN
BEGIN:VEVENT
DTSTAMP:20260420T235719Z
STATUS:CONFIRMED
UID:b26f503bc5dcf1086d4b03f27f0e163e@KansasAuctions.net
DTSTART:20260422T230000Z
DTEND:20260423T000000Z
SUMMARY:Online Auction - Dennis Wendt Auctioneer
DESCRIPTION:Boehm Farm & Household Dispersal Auction
  https://www.kansasauctions.net/calendar/wendt/70354/
LOCATION:30919 W 363rd St Osawatomie, KS
TRANSP:OPAQUE
END:VEVENT
END:VCALENDAR