BEGIN:VCALENDAR
VERSION:2.0
PRODID:-//KansasAuctions.net v1//EN
BEGIN:VEVENT
DTSTAMP:20260420T215939Z
STATUS:CONFIRMED
UID:0f42c036cf2626ff75bc6045361579be@KansasAuctions.net
DTSTART:20260421T230000Z
DTEND:20260422T000000Z
SUMMARY:Online Auction - Dennis Wendt Auctioneer
DESCRIPTION:Boehm Die-Cast Collectible Tractors & Toys & JD Toys
  https://www.kansasauctions.net/calendar/wendt/70353/
LOCATION:30919 W 363rd St Osawatomie, KS
TRANSP:OPAQUE
END:VEVENT
END:VCALENDAR