BEGIN:VCALENDAR
VERSION:2.0
PRODID:-//KansasAuctions.net v1//EN
BEGIN:VEVENT
DTSTAMP:20260420T185533Z
STATUS:CONFIRMED
UID:161411362e16bdbea27646bdf9f349d3@KansasAuctions.net
DTSTART:20260425T140000Z
DTEND:20260425T150000Z
SUMMARY:Real Estate, Household, Tool & Equipment Auction - Circle L Auction
  Service
DESCRIPTION:A Great Piece of Real Estate! Collector Cars, Vehicles, Tools
  of All Kinds, Plus Large Tool Boxes, Furniture, Guns, Car Dolly, Specialty
  Tools, Camping Items and A Whole Lot More to Be Sold!!
  https://www.kansasauctions.net/calendar/circlel/70352/
LOCATION:13144 Keene Rd Neosho, MO
TRANSP:OPAQUE
END:VEVENT
END:VCALENDAR