BEGIN:VCALENDAR
VERSION:2.0
PRODID:-//KansasAuctions.net v1//EN
BEGIN:VEVENT
DTSTAMP:20260420T185528Z
STATUS:CONFIRMED
UID:5560e4d622a9e810ad4708831b3f931b@KansasAuctions.net
DTSTART:20260424T150000Z
DTEND:20260424T160000Z
SUMMARY:Morstorf Estate Auction - S & S Sales LLC
DESCRIPTION:Hit & Miss Engines, Small Engines, Shop Items, Tractor Parts,
  Equipment, Farm Primitives, New Stuff
  https://www.kansasauctions.net/calendar/ss/70351/
LOCATION:511 Cochran Lebo, KS
TRANSP:OPAQUE
END:VEVENT
END:VCALENDAR