BEGIN:VCALENDAR
VERSION:2.0
PRODID:-//KansasAuctions.net v1//EN
BEGIN:VEVENT
DTSTAMP:20260420T190222Z
STATUS:CONFIRMED
UID:017eb301559cbc5d57e41d63b272b7a6@KansasAuctions.net
DTSTART:20260502T143000Z
DTEND:20260502T153000Z
SUMMARY:Public Auction - Auction Specialists, LLC
DESCRIPTION:Guns, Newton & Harvey County Collectibles, Antiques, Farm
  Equipment, Farm & Home Collectibles & 100 Years of Collectibles!
  https://www.kansasauctions.net/calendar/auctionspecialists/70350/
LOCATION:10135 N Kansas Newton, KS
TRANSP:OPAQUE
END:VEVENT
END:VCALENDAR