BEGIN:VCALENDAR
VERSION:2.0
PRODID:-//KansasAuctions.net v1//EN
BEGIN:VEVENT
DTSTAMP:20260420T043401Z
STATUS:CONFIRMED
UID:06c9b062488466f5a5f3c44e65f49d06@KansasAuctions.net
DTSTART:20260502T143000Z
DTEND:20260502T153000Z
SUMMARY:Public Auction - Morris Yoder Auctions
DESCRIPTION:Vehicles, Shop Tools, Household and Collectibles
  https://www.kansasauctions.net/calendar/yoder/70304/
LOCATION:8125 SW 36th St Burrton, KS
TRANSP:OPAQUE
END:VEVENT
END:VCALENDAR