BEGIN:VCALENDAR
VERSION:2.0
PRODID:-//KansasAuctions.net v1//EN
BEGIN:VEVENT
DTSTAMP:20260420T235552Z
STATUS:CONFIRMED
UID:39af52645bb1ebf29dd262bc91681899@KansasAuctions.net
DTSTART:20260425T153000Z
DTEND:20260425T163000Z
SUMMARY:Online Auction - Little Bull Auction & Sales Co.
DESCRIPTION:"The Clockmaker" Estate
  https://www.kansasauctions.net/calendar/littlebull/70303/
LOCATION:Ness City, KS
TRANSP:OPAQUE
END:VEVENT
END:VCALENDAR