BEGIN:VCALENDAR
VERSION:2.0
PRODID:-//KansasAuctions.net v1//EN
BEGIN:VEVENT
DTSTAMP:20260420T222106Z
STATUS:CONFIRMED
UID:4706bec48150cb16dbe54a5e5ab56165@KansasAuctions.net
DTSTART:20260424T233000Z
DTEND:20260425T003000Z
SUMMARY:Online Auction - Little Bull Auction & Sales Co.
DESCRIPTION:AAA Satellite Business Liquidation. TVs, TV Mounts, Remotes,
  Fiber Optics, Cabling & Satellite Equipment in Kansas City, KS
  https://www.kansasauctions.net/calendar/littlebull/70302/
LOCATION:7164 Kaw Dr Kansas City, KS
TRANSP:OPAQUE
END:VEVENT
END:VCALENDAR