BEGIN:VCALENDAR
VERSION:2.0
PRODID:-//KansasAuctions.net v1//EN
BEGIN:VEVENT
DTSTAMP:20260420T222238Z
STATUS:CONFIRMED
UID:bba264ae7b0ab47d461e94bf4c6ba580@KansasAuctions.net
DTSTART:20260424T223000Z
DTEND:20260424T233000Z
SUMMARY:Online Auction - Little Bull Auction & Sales Co.
DESCRIPTION:From Wichita to the World The Coleman Traveler’s Auction
  https://www.kansasauctions.net/calendar/littlebull/70301/
LOCATION:Wichita, KS
TRANSP:OPAQUE
END:VEVENT
END:VCALENDAR