BEGIN:VCALENDAR
VERSION:2.0
PRODID:-//KansasAuctions.net v1//EN
BEGIN:VEVENT
DTSTAMP:20260425T141526Z
STATUS:CONFIRMED
UID:cab610bf39aff7011c8f1373d1e48f52@KansasAuctions.net
DTSTART:20260722T230000Z
DTEND:20260723T000000Z
SUMMARY:Public Auction - Carrell Auctions
DESCRIPTION:Wednesday Night Live Auction
  https://www.kansasauctions.net/calendar/carrell/70291/
LOCATION:1722 S Harris Ave Independence, MO
TRANSP:OPAQUE
END:VEVENT
END:VCALENDAR