BEGIN:VCALENDAR
VERSION:2.0
PRODID:-//KansasAuctions.net v1//EN
BEGIN:VEVENT
DTSTAMP:20260425T141530Z
STATUS:CONFIRMED
UID:a48b7895dae69764f153fc9c089caa31@KansasAuctions.net
DTSTART:20260715T230000Z
DTEND:20260716T000000Z
SUMMARY:Public Auction - Carrell Auctions
DESCRIPTION:Wednesday Night Live Auction
  https://www.kansasauctions.net/calendar/carrell/70290/
LOCATION:1722 S Harris Ave Independence, MO
TRANSP:OPAQUE
END:VEVENT
END:VCALENDAR