BEGIN:VCALENDAR
VERSION:2.0
PRODID:-//KansasAuctions.net v1//EN
BEGIN:VEVENT
DTSTAMP:20260424T154527Z
STATUS:CONFIRMED
UID:dda1c3600c3c03cc45c4860e2f7401e7@KansasAuctions.net
DTSTART:20260708T230000Z
DTEND:20260709T000000Z
SUMMARY:Public Auction - Carrell Auctions
DESCRIPTION:Wednesday Night Live Auction
  https://www.kansasauctions.net/calendar/carrell/70289/
LOCATION:1722 S Harris Ave Independence, MO
TRANSP:OPAQUE
END:VEVENT
END:VCALENDAR