BEGIN:VCALENDAR
VERSION:2.0
PRODID:-//KansasAuctions.net v1//EN
BEGIN:VEVENT
DTSTAMP:20260425T141714Z
STATUS:CONFIRMED
UID:72302864b70ffdf813d75b86b3595361@KansasAuctions.net
DTSTART:20260624T230000Z
DTEND:20260625T000000Z
SUMMARY:Public Auction - Carrell Auctions
DESCRIPTION:Wednesday Night Live Auction
  https://www.kansasauctions.net/calendar/carrell/70287/
LOCATION:1722 S Harris Ave Independence, MO
TRANSP:OPAQUE
END:VEVENT
END:VCALENDAR