BEGIN:VCALENDAR
VERSION:2.0
PRODID:-//KansasAuctions.net v1//EN
BEGIN:VEVENT
DTSTAMP:20260424T145609Z
STATUS:CONFIRMED
UID:bbfbc62f03221377af17e3e37b3d3087@KansasAuctions.net
DTSTART:20260617T230000Z
DTEND:20260618T000000Z
SUMMARY:Public Auction - Carrell Auctions
DESCRIPTION:Wednesday Night Live Auction
  https://www.kansasauctions.net/calendar/carrell/70286/
LOCATION:1722 S Harris Ave Independence, MO
TRANSP:OPAQUE
END:VEVENT
END:VCALENDAR