BEGIN:VCALENDAR
VERSION:2.0
PRODID:-//KansasAuctions.net v1//EN
BEGIN:VEVENT
DTSTAMP:20260420T235541Z
STATUS:CONFIRMED
UID:94612836be53968a72589b09374a2699@KansasAuctions.net
DTSTART:20260503T150000Z
DTEND:20260503T160000Z
SUMMARY:Online Auction - Brown Auction & Real Estate
DESCRIPTION:Spring Fling 2026 - Day 2
  https://www.kansasauctions.net/calendar/brown/70281/
LOCATION:907 E Kansas Ave Greensburg, KS
TRANSP:OPAQUE
END:VEVENT
END:VCALENDAR