BEGIN:VCALENDAR
VERSION:2.0
PRODID:-//KansasAuctions.net v1//EN
BEGIN:VEVENT
DTSTAMP:20260425T152932Z
STATUS:CONFIRMED
UID:45e89814c1b647e629e20ded6044db2f@KansasAuctions.net
DTSTART:20260502T150000Z
DTEND:20260502T160000Z
SUMMARY:Public Auction - Berning Auction, Inc.
DESCRIPTION:Furniture and Appliances, Antique Furniture, Collectables,
  Coins, Household Items
  https://www.kansasauctions.net/calendar/berning/70280/
LOCATION:506 M St Leoti, KS
TRANSP:OPAQUE
END:VEVENT
END:VCALENDAR