BEGIN:VCALENDAR
VERSION:2.0
PRODID:-//KansasAuctions.net v1//EN
BEGIN:VEVENT
DTSTAMP:20260422T074003Z
STATUS:CONFIRMED
UID:605767101526299cc53fe63c9823f590@KansasAuctions.net
DTSTART:20260425T150000Z
DTEND:20260425T160000Z
SUMMARY:Public Auction - Berning Auction, Inc.
DESCRIPTION:SUV & Pickup, Furniture, Household Items, Shop Tools &
  Equipment, Mower & Lawn furniture
  https://www.kansasauctions.net/calendar/berning/70279/
LOCATION:608 Fairground Rd Scott City, KS
TRANSP:OPAQUE
END:VEVENT
END:VCALENDAR