BEGIN:VCALENDAR
VERSION:2.0
PRODID:-//KansasAuctions.net v1//EN
BEGIN:VEVENT
DTSTAMP:20260419T115130Z
STATUS:CONFIRMED
UID:b68dd6ed53c83a096470996e152b0fd5@KansasAuctions.net
DTSTART:20260425T140000Z
DTEND:20260425T150000Z
SUMMARY:Public Auction - Kurtz Auction & Realty Service
DESCRIPTION:Large Shop Contents, Antiques / Collectibles
  https://www.kansasauctions.net/calendar/kurtz/70273/
LOCATION:2526 Planter Rd Waverly, KS
TRANSP:OPAQUE
END:VEVENT
END:VCALENDAR