BEGIN:VCALENDAR
VERSION:2.0
PRODID:-//KansasAuctions.net v1//EN
BEGIN:VEVENT
DTSTAMP:20260421T132508Z
STATUS:CONFIRMED
UID:83db636d0811618af735aec10ce19524@KansasAuctions.net
DTSTART:20260516T150000Z
DTEND:20260516T160000Z
SUMMARY:Consignment Auction - Roberts Auction Service
DESCRIPTION:Tractors, Equipment, Trucks, Cars, Trailers, Boats, ATVs,
  Livestock Equipment, Construction Equipment, Tools, Farm Related, Livestock
  & Misc.
  https://www.kansasauctions.net/calendar/roberts/70260/
LOCATION:25982 NW Mitchell Rd Garnett, KS
TRANSP:OPAQUE
END:VEVENT
END:VCALENDAR