BEGIN:VCALENDAR
VERSION:2.0
PRODID:-//KansasAuctions.net v1//EN
BEGIN:VEVENT
DTSTAMP:20260420T170417Z
STATUS:CONFIRMED
UID:f7e26727edc6a0d8c56cbcac1b072862@KansasAuctions.net
DTSTART:20260424T150000Z
DTEND:20260424T160000Z
SUMMARY:Morstorf Estate Auction - Hancock Auction & Realty
DESCRIPTION:Hit & Miss Engines, Small Engines, Shop Items, Tractor Parts,
  Equipment, Farm Primitives, New Stuff
  https://www.kansasauctions.net/calendar/hancock/70239/
LOCATION:511 Cochran Lebo, KS
TRANSP:OPAQUE
END:VEVENT
END:VCALENDAR