BEGIN:VCALENDAR
VERSION:2.0
PRODID:-//KansasAuctions.net v1//EN
BEGIN:VEVENT
DTSTAMP:20260424T041824Z
STATUS:CONFIRMED
UID:45d9602665c31ea098c4e3f64854c14a@KansasAuctions.net
DTSTART:20260509T150000Z
DTEND:20260509T160000Z
SUMMARY:Public Auction - Kearn Auction House
DESCRIPTION:Vehicles, Guns, Toys, Antiques & Household Items
  https://www.kansasauctions.net/calendar/kearn/70234/
LOCATION:Concordia, KS
TRANSP:OPAQUE
END:VEVENT
END:VCALENDAR