BEGIN:VCALENDAR
VERSION:2.0
PRODID:-//KansasAuctions.net v1//EN
BEGIN:VEVENT
DTSTAMP:20260423T165657Z
STATUS:CONFIRMED
UID:cb36c1d6732e305fc04ce8f0a003a0bc@KansasAuctions.net
DTSTART:20260412T143000Z
DTEND:20260412T153000Z
SUMMARY:Public Auction - Kooser Auction Service
DESCRIPTION:Household, Tools & Misc.
  https://www.kansasauctions.net/calendar/kooser/70196/
LOCATION:515 N E Independence Topeka, KS
TRANSP:OPAQUE
END:VEVENT
END:VCALENDAR