BEGIN:VCALENDAR
VERSION:2.0
PRODID:-//KansasAuctions.net v1//EN
BEGIN:VEVENT
DTSTAMP:20260421T205554Z
STATUS:CONFIRMED
UID:cc85cc9f164b2be4d2bae7ed01b9579d@KansasAuctions.net
DTSTART:20260501T130000Z
DTEND:20260501T140000Z
SUMMARY:Estate Sale - Moore Auction Service
DESCRIPTION:Lawn Items & Equipment, Military Collectibles, Antiques,
  Household Items, Shop Items, Miscellaneous
  https://www.kansasauctions.net/calendar/moore/70186/
LOCATION:17620 Millwood Rd Leavenworth, KS
TRANSP:OPAQUE
END:VEVENT
END:VCALENDAR