BEGIN:VCALENDAR
VERSION:2.0
PRODID:-//KansasAuctions.net v1//EN
BEGIN:VEVENT
DTSTAMP:20260421T222950Z
STATUS:CONFIRMED
UID:3dc913335813b6ed57a18413acec86e1@KansasAuctions.net
DTSTART:20260430T130000Z
DTEND:20260430T140000Z
SUMMARY:Estate Sale - Moore Auction Service
DESCRIPTION:Lawn Items & Equipment, Military Collectibles, Antiques,
  Household Items, Shop Items, Miscellaneous
  https://www.kansasauctions.net/calendar/moore/70185/
LOCATION:17620 Millwood Rd Leavenworth, KS
TRANSP:OPAQUE
END:VEVENT
END:VCALENDAR