BEGIN:VCALENDAR
VERSION:2.0
PRODID:-//KansasAuctions.net v1//EN
BEGIN:VEVENT
DTSTAMP:20260421T043310Z
STATUS:CONFIRMED
UID:8ea2fdaf4c0f88b0d82d2c8080dc8c3a@KansasAuctions.net
DTSTART:20260517T150000Z
DTEND:20260517T160000Z
SUMMARY:Antique Auction - Thummel Real Estate & Auction LLC
DESCRIPTION:Toys & Collectables Auction
  https://www.kansasauctions.net/calendar/thummel/70176/
LOCATION:900 Greeley Salina, KS
TRANSP:OPAQUE
END:VEVENT
END:VCALENDAR